BEGIN:VCALENDAR
VERSION:2.0
PRODID:-//Gold Country Writers - ECPv6.15.20//NONSGML v1.0//EN
CALSCALE:GREGORIAN
METHOD:PUBLISH
X-WR-CALNAME:Gold Country Writers
X-ORIGINAL-URL:https://goldcountrywriters.com
X-WR-CALDESC:Events for Gold Country Writers
REFRESH-INTERVAL;VALUE=DURATION:PT1H
X-Robots-Tag:noindex
X-PUBLISHED-TTL:PT1H
BEGIN:VTIMEZONE
TZID:America/Los_Angeles
BEGIN:DAYLIGHT
TZOFFSETFROM:-0800
TZOFFSETTO:-0700
TZNAME:PDT
DTSTART:20240310T100000
END:DAYLIGHT
BEGIN:STANDARD
TZOFFSETFROM:-0700
TZOFFSETTO:-0800
TZNAME:PST
DTSTART:20241103T090000
END:STANDARD
BEGIN:DAYLIGHT
TZOFFSETFROM:-0800
TZOFFSETTO:-0700
TZNAME:PDT
DTSTART:20250309T100000
END:DAYLIGHT
BEGIN:STANDARD
TZOFFSETFROM:-0700
TZOFFSETTO:-0800
TZNAME:PST
DTSTART:20251102T090000
END:STANDARD
BEGIN:DAYLIGHT
TZOFFSETFROM:-0800
TZOFFSETTO:-0700
TZNAME:PDT
DTSTART:20260308T100000
END:DAYLIGHT
BEGIN:STANDARD
TZOFFSETFROM:-0700
TZOFFSETTO:-0800
TZNAME:PST
DTSTART:20261101T090000
END:STANDARD
END:VTIMEZONE
BEGIN:VEVENT
DTSTART;TZID=America/Los_Angeles:20251112T100000
DTEND;TZID=America/Los_Angeles:20251112T120000
DTSTAMP:20260425T180718
CREATED:20250203T055917Z
LAST-MODIFIED:20250203T164605Z
UID:10000074-1762941600-1762948800@goldcountrywriters.com
SUMMARY:Drop-in Critique - 2nd Wednesday
DESCRIPTION:The second Wednesday of each month is our Drop-in Critique. These events are in-person only.\nMembers may bring up to five pages of their work\, double spaced\, to read and receive feedback. \nFor information please email goldcountrywriters1849@gmail.com \nTo be held in the Rose Room at Auburn City Hall. Click here for address\, map\, and directions.
URL:https://goldcountrywriters.com/event/drop-in-critique-2nd-wednesday-10/
LOCATION:Auburn City Hall – Rose Room\, 1225 Lincoln Way\, Auburn\, CA 95603\, CA\, 95603\, United States
CATEGORIES:Drop-In Critique
END:VEVENT
END:VCALENDAR