BEGIN:VCALENDAR
VERSION:2.0
PRODID:-//Gold Country Writers - ECPv6.15.20//NONSGML v1.0//EN
CALSCALE:GREGORIAN
METHOD:PUBLISH
X-ORIGINAL-URL:https://goldcountrywriters.com
X-WR-CALDESC:Events for Gold Country Writers
REFRESH-INTERVAL;VALUE=DURATION:PT1H
X-Robots-Tag:noindex
X-PUBLISHED-TTL:PT1H
BEGIN:VTIMEZONE
TZID:America/Los_Angeles
BEGIN:DAYLIGHT
TZOFFSETFROM:-0800
TZOFFSETTO:-0700
TZNAME:PDT
DTSTART:20230312T100000
END:DAYLIGHT
BEGIN:STANDARD
TZOFFSETFROM:-0700
TZOFFSETTO:-0800
TZNAME:PST
DTSTART:20231105T090000
END:STANDARD
BEGIN:DAYLIGHT
TZOFFSETFROM:-0800
TZOFFSETTO:-0700
TZNAME:PDT
DTSTART:20240310T100000
END:DAYLIGHT
BEGIN:STANDARD
TZOFFSETFROM:-0700
TZOFFSETTO:-0800
TZNAME:PST
DTSTART:20241103T090000
END:STANDARD
BEGIN:DAYLIGHT
TZOFFSETFROM:-0800
TZOFFSETTO:-0700
TZNAME:PDT
DTSTART:20250309T100000
END:DAYLIGHT
BEGIN:STANDARD
TZOFFSETFROM:-0700
TZOFFSETTO:-0800
TZNAME:PST
DTSTART:20251102T090000
END:STANDARD
END:VTIMEZONE
BEGIN:VEVENT
DTSTART;TZID=America/Los_Angeles:20240117T100000
DTEND;TZID=America/Los_Angeles:20240117T120000
DTSTAMP:20260423T064014
CREATED:20231118T205023Z
LAST-MODIFIED:20250724T190735Z
UID:10000006-1705485600-1705492800@goldcountrywriters.com
SUMMARY:January Speaker - Lara Gularte
DESCRIPTION:The third Wednesday of each month is our Speaker Meeting.\nFor January\, our speaker will be Lara Gularte.\nShe will speak on the topic “Is It a Prose Poem or Flash Fiction?”\nThis meeting will be held in the Rose Room at Auburn City Hall.\nDue to a recent change in Auburn City Hall policy\, Gold Country Writers members and guests are no longer allowed to park in the Auburn City Hall parking lot at the rear of the building.\nClick here for Rose Room address\, map\, and directions. Also\, info on Rose Room parking.\nThe public is invited. The meeting is free to attend. \n\n  \n\nLara Gularte\, Poet Laureate Emeritus of El Dorado County (2021 to 2023)\, is the author of two books of poetry: Fourth World Woman (Finishing Line Press) and Kissing the Bee (The Bitter Oleander Press). Nominated for several Pushcart Prizes\, her work has been published in national and international journals and anthologies. Lara hosts the Poetry of the Sierra Foothills readings at Chateau Davell Winery in Camino and co-leads the Poets and Writers Workshop at the Cameron Park Library.
URL:https://goldcountrywriters.com/event/january-speaker-lara-gularte/
LOCATION:Auburn City Hall – Rose Room\, 1225 Lincoln Way\, Auburn\, CA 95603\, CA\, 95603\, United States
CATEGORIES:Speaker
END:VEVENT
END:VCALENDAR