BEGIN:VCALENDAR
VERSION:2.0
PRODID:-//Gold Country Writers - ECPv6.15.20//NONSGML v1.0//EN
CALSCALE:GREGORIAN
METHOD:PUBLISH
X-ORIGINAL-URL:https://goldcountrywriters.com
X-WR-CALDESC:Events for Gold Country Writers
REFRESH-INTERVAL;VALUE=DURATION:PT1H
X-Robots-Tag:noindex
X-PUBLISHED-TTL:PT1H
BEGIN:VTIMEZONE
TZID:America/Los_Angeles
BEGIN:DAYLIGHT
TZOFFSETFROM:-0800
TZOFFSETTO:-0700
TZNAME:PDT
DTSTART:20230312T100000
END:DAYLIGHT
BEGIN:STANDARD
TZOFFSETFROM:-0700
TZOFFSETTO:-0800
TZNAME:PST
DTSTART:20231105T090000
END:STANDARD
BEGIN:DAYLIGHT
TZOFFSETFROM:-0800
TZOFFSETTO:-0700
TZNAME:PDT
DTSTART:20240310T100000
END:DAYLIGHT
BEGIN:STANDARD
TZOFFSETFROM:-0700
TZOFFSETTO:-0800
TZNAME:PST
DTSTART:20241103T090000
END:STANDARD
BEGIN:DAYLIGHT
TZOFFSETFROM:-0800
TZOFFSETTO:-0700
TZNAME:PDT
DTSTART:20250309T100000
END:DAYLIGHT
BEGIN:STANDARD
TZOFFSETFROM:-0700
TZOFFSETTO:-0800
TZNAME:PST
DTSTART:20251102T090000
END:STANDARD
END:VTIMEZONE
BEGIN:VEVENT
DTSTART;TZID=America/Los_Angeles:20241120T100000
DTEND;TZID=America/Los_Angeles:20241120T120000
DTSTAMP:20260422T150520
CREATED:20241005T224628Z
LAST-MODIFIED:20250724T190719Z
UID:10000024-1732096800-1732104000@goldcountrywriters.com
SUMMARY:November Speaker - Danna Wilberg
DESCRIPTION:November Speaker\nDanna Wilberg\nNovember 20\, 2024 @ 10:00 am – 12:00 noon\, PDT \nOur speaker will be Danna Wilberg\nHer subject will be \n“How Script Writing Can Enhance Your Novel Writing Experience” \nThis meeting will be held in the Rose Room at Auburn City Hall.\nThe public is invited. The meeting is free to attend. \nClick here for Rose Room address\, map\, and directions. Also\, info on Rose Room parking\, now offsite only. \nDänna Wilberg has written\, produced\, and directed multiple award-winning short films. She produced and hosted TV programs in Sacramento for over a decade and was one of the first people inducted into Access Sacramento’s “A Place Called Sacramento” Hall of Fame. She is the author of a romantic-suspense trilogy — The Red Chair\, The Grey Door\, and The Black Dress; and a 3-book paranormal-suspense series “Borrowed Time” — Book 1 – Broken Promises\, Book 2 – Missing\, and Book 3 – Mind Game. \n  \nwww.dannawilberg.com/
URL:https://goldcountrywriters.com/event/6010/
LOCATION:Auburn City Hall – Rose Room\, 1225 Lincoln Way\, Auburn\, CA 95603\, CA\, 95603\, United States
CATEGORIES:Speaker
END:VEVENT
END:VCALENDAR