BEGIN:VCALENDAR
VERSION:2.0
PRODID:-//Gold Country Writers - ECPv6.15.20//NONSGML v1.0//EN
CALSCALE:GREGORIAN
METHOD:PUBLISH
X-ORIGINAL-URL:https://goldcountrywriters.com
X-WR-CALDESC:Events for Gold Country Writers
REFRESH-INTERVAL;VALUE=DURATION:PT1H
X-Robots-Tag:noindex
X-PUBLISHED-TTL:PT1H
BEGIN:VTIMEZONE
TZID:America/Los_Angeles
BEGIN:DAYLIGHT
TZOFFSETFROM:-0800
TZOFFSETTO:-0700
TZNAME:PDT
DTSTART:20240310T100000
END:DAYLIGHT
BEGIN:STANDARD
TZOFFSETFROM:-0700
TZOFFSETTO:-0800
TZNAME:PST
DTSTART:20241103T090000
END:STANDARD
BEGIN:DAYLIGHT
TZOFFSETFROM:-0800
TZOFFSETTO:-0700
TZNAME:PDT
DTSTART:20250309T100000
END:DAYLIGHT
BEGIN:STANDARD
TZOFFSETFROM:-0700
TZOFFSETTO:-0800
TZNAME:PST
DTSTART:20251102T090000
END:STANDARD
BEGIN:DAYLIGHT
TZOFFSETFROM:-0800
TZOFFSETTO:-0700
TZNAME:PDT
DTSTART:20260308T100000
END:DAYLIGHT
BEGIN:STANDARD
TZOFFSETFROM:-0700
TZOFFSETTO:-0800
TZNAME:PST
DTSTART:20261101T090000
END:STANDARD
END:VTIMEZONE
BEGIN:VEVENT
DTSTART;TZID=America/Los_Angeles:20250115T100000
DTEND;TZID=America/Los_Angeles:20250115T120000
DTSTAMP:20260422T120333
CREATED:20241202T233035Z
LAST-MODIFIED:20250204T011049Z
UID:10000027-1736935200-1736942400@goldcountrywriters.com
SUMMARY:January Speaker - Randy Landenberger
DESCRIPTION:On Wednesday\, January 15\, 2025\, from 10am to noon\, our speaker will be Randy Landenberger\nHis subject will be “Turning Your Story into an Audiobook: Here’s the Reality.” \nThis meeting will be held in the Rose Room at Auburn City Hall.\nThe public is invited. The meeting is free to attend. \nClick here for Rose Room address\, map\, and directions. Also\, info on Rose Room parking\, now offsite only. \nRandy Landenberger is an audio engineer and author. Doing business as Randco Studio\, Randy has a home recording studio for audiobook narration\, voice-over work\, and music. Writing under the pen name Randy L Scott\, he is a master of psychological suspense with each book revealing many intricate layers. He has written a trilogy of psychological action-adventure-drama novels entitled “The Dream Messiah.”  The three books are entitled “Freedom\,” “Into the Fire\,” and “Awaken.” \n  \nFor more information: https://www.randco.me/
URL:https://goldcountrywriters.com/event/january-speaker-randy-landenberger/
LOCATION:Auburn City Hall – Rose Room\, 1225 Lincoln Way\, Auburn\, CA 95603\, CA\, 95603\, United States
CATEGORIES:Speaker
END:VEVENT
END:VCALENDAR