BEGIN:VCALENDAR
VERSION:2.0
PRODID:-//Gold Country Writers - ECPv6.15.20//NONSGML v1.0//EN
CALSCALE:GREGORIAN
METHOD:PUBLISH
X-ORIGINAL-URL:https://goldcountrywriters.com
X-WR-CALDESC:Events for Gold Country Writers
REFRESH-INTERVAL;VALUE=DURATION:PT1H
X-Robots-Tag:noindex
X-PUBLISHED-TTL:PT1H
BEGIN:VTIMEZONE
TZID:America/Los_Angeles
BEGIN:DAYLIGHT
TZOFFSETFROM:-0800
TZOFFSETTO:-0700
TZNAME:PDT
DTSTART:20240310T100000
END:DAYLIGHT
BEGIN:STANDARD
TZOFFSETFROM:-0700
TZOFFSETTO:-0800
TZNAME:PST
DTSTART:20241103T090000
END:STANDARD
BEGIN:DAYLIGHT
TZOFFSETFROM:-0800
TZOFFSETTO:-0700
TZNAME:PDT
DTSTART:20250309T100000
END:DAYLIGHT
BEGIN:STANDARD
TZOFFSETFROM:-0700
TZOFFSETTO:-0800
TZNAME:PST
DTSTART:20251102T090000
END:STANDARD
BEGIN:DAYLIGHT
TZOFFSETFROM:-0800
TZOFFSETTO:-0700
TZNAME:PDT
DTSTART:20260308T100000
END:DAYLIGHT
BEGIN:STANDARD
TZOFFSETFROM:-0700
TZOFFSETTO:-0800
TZNAME:PST
DTSTART:20261101T090000
END:STANDARD
END:VTIMEZONE
BEGIN:VEVENT
DTSTART;TZID=America/Los_Angeles:20250219T100000
DTEND;TZID=America/Los_Angeles:20250219T120000
DTSTAMP:20260422T102710
CREATED:20241231T230451Z
LAST-MODIFIED:20250204T010911Z
UID:10000029-1739959200-1739966400@goldcountrywriters.com
SUMMARY:February Speaker - Rina Wakefield
DESCRIPTION:Wednesday\, February 19.2025 @ 10:00 am – 12:00 noon\, PDT \nOur speaker will be Rina Wakefield.\nHer subject will be “Intertwining the Oral Tradition with Spoken Word Poetry Performance.” \nThis meeting will be held in the Rose Room at Auburn City Hall.\nThe public is invited. The meeting is free to attend. \nClick here for Rose Room address\, map\, and directions. Also\, info on Rose Room parking\, now offsite only. \nRina Wakefield is a Spoken Word Poet. As a cultural and literary event producer\, she facilitates and hosts poetry events for her community\, including one that featured California Poet Laureate Lee Herrick. Rina has been a featured performer at numerous events\, including the El Dorado County’s Poet Laureate program and Placerville’s International Human Rights Day celebration. She has been published in literary journals\, including Lantern Magazine and Coalesce. She was also published in Arts and Culture El Dorado’s chapbook Poets of the Firehouse Sessions (2023). Currently\, she is working on a prose poetry chapbook. \n  \nFor more information: https://www.rinawrites.com/
URL:https://goldcountrywriters.com/event/february-speaker-rina-wakefield/
LOCATION:Auburn City Hall – Rose Room\, 1225 Lincoln Way\, Auburn\, CA 95603\, CA\, 95603\, United States
CATEGORIES:Speaker
END:VEVENT
END:VCALENDAR