BEGIN:VCALENDAR
VERSION:2.0
PRODID:-//Gold Country Writers - ECPv6.15.20//NONSGML v1.0//EN
CALSCALE:GREGORIAN
METHOD:PUBLISH
X-WR-CALNAME:Gold Country Writers
X-ORIGINAL-URL:https://goldcountrywriters.com
X-WR-CALDESC:Events for Gold Country Writers
REFRESH-INTERVAL;VALUE=DURATION:PT1H
X-Robots-Tag:noindex
X-PUBLISHED-TTL:PT1H
BEGIN:VTIMEZONE
TZID:America/Los_Angeles
BEGIN:DAYLIGHT
TZOFFSETFROM:-0800
TZOFFSETTO:-0700
TZNAME:PDT
DTSTART:20240310T100000
END:DAYLIGHT
BEGIN:STANDARD
TZOFFSETFROM:-0700
TZOFFSETTO:-0800
TZNAME:PST
DTSTART:20241103T090000
END:STANDARD
BEGIN:DAYLIGHT
TZOFFSETFROM:-0800
TZOFFSETTO:-0700
TZNAME:PDT
DTSTART:20250309T100000
END:DAYLIGHT
BEGIN:STANDARD
TZOFFSETFROM:-0700
TZOFFSETTO:-0800
TZNAME:PST
DTSTART:20251102T090000
END:STANDARD
BEGIN:DAYLIGHT
TZOFFSETFROM:-0800
TZOFFSETTO:-0700
TZNAME:PDT
DTSTART:20260308T100000
END:DAYLIGHT
BEGIN:STANDARD
TZOFFSETFROM:-0700
TZOFFSETTO:-0800
TZNAME:PST
DTSTART:20261101T090000
END:STANDARD
END:VTIMEZONE
BEGIN:VEVENT
DTSTART;TZID=America/Los_Angeles:20250521T100000
DTEND;TZID=America/Los_Angeles:20250521T120000
DTSTAMP:20260422T054429
CREATED:20250330T192148Z
LAST-MODIFIED:20250418T184258Z
UID:10000124-1747821600-1747828800@goldcountrywriters.com
SUMMARY:May Speaker - Chris Hennessy
DESCRIPTION:Our speaker will be Chris Hennessy on the topic “WRITE IT\, FILM IT\, SHARE IT – The power of video for authors.” \nAs a filmmaker\, Chris Hennessy marketed\, sold\, and produced over 1\,500 professional projects for clients including Google\, eBay\, the SF 49ers\, Deloitte\, Office Max\, and The American Cancer Society from 1990 to 2018. As a speaker\, he regularly presents at writers’ conferences and clubs. Currently\, he is working on his memoir\, Touched by Hannah — about a man with cancer\, his one-pound newborn\, and their fight for life — and produced a film to promote it. \nFor more info\, visit https://www.henchris.com. \n \n\nThis meeting will be held in the Rose Room at Auburn City Hall.\nThe public is invited. The meeting is free to attend. \nClick here for Rose Room address\, map\, and directions. Also\, info on Rose Room parking\, now offsite only.
URL:https://goldcountrywriters.com/event/may-speaker-chris-hennessy/
LOCATION:Auburn City Hall – Rose Room\, 1225 Lincoln Way\, Auburn\, CA 95603\, CA\, 95603\, United States
CATEGORIES:Speaker
END:VEVENT
END:VCALENDAR