BEGIN:VCALENDAR
VERSION:2.0
PRODID:-//Gold Country Writers - ECPv6.15.20//NONSGML v1.0//EN
CALSCALE:GREGORIAN
METHOD:PUBLISH
X-WR-CALNAME:Gold Country Writers
X-ORIGINAL-URL:https://goldcountrywriters.com
X-WR-CALDESC:Events for Gold Country Writers
REFRESH-INTERVAL;VALUE=DURATION:PT1H
X-Robots-Tag:noindex
X-PUBLISHED-TTL:PT1H
BEGIN:VTIMEZONE
TZID:America/Los_Angeles
BEGIN:DAYLIGHT
TZOFFSETFROM:-0800
TZOFFSETTO:-0700
TZNAME:PDT
DTSTART:20240310T100000
END:DAYLIGHT
BEGIN:STANDARD
TZOFFSETFROM:-0700
TZOFFSETTO:-0800
TZNAME:PST
DTSTART:20241103T090000
END:STANDARD
BEGIN:DAYLIGHT
TZOFFSETFROM:-0800
TZOFFSETTO:-0700
TZNAME:PDT
DTSTART:20250309T100000
END:DAYLIGHT
BEGIN:STANDARD
TZOFFSETFROM:-0700
TZOFFSETTO:-0800
TZNAME:PST
DTSTART:20251102T090000
END:STANDARD
BEGIN:DAYLIGHT
TZOFFSETFROM:-0800
TZOFFSETTO:-0700
TZNAME:PDT
DTSTART:20260308T100000
END:DAYLIGHT
BEGIN:STANDARD
TZOFFSETFROM:-0700
TZOFFSETTO:-0800
TZNAME:PST
DTSTART:20261101T090000
END:STANDARD
END:VTIMEZONE
BEGIN:VEVENT
DTSTART;TZID=America/Los_Angeles:20251015T100000
DTEND;TZID=America/Los_Angeles:20251015T120000
DTSTAMP:20260420T042902
CREATED:20250722T204527Z
LAST-MODIFIED:20250722T204527Z
UID:10000144-1760522400-1760529600@goldcountrywriters.com
SUMMARY:October Speaker - Anne Da Vigo
DESCRIPTION:Our speaker will be Anne Da Vigo on “Creating Fiction from Real Events” \nAnne Da Vigo is the author of Night Flight\, inspired by the real-life 1955 airplane bombing out of Denver airport. It was released early this year. Her other thrillers include Bakersfield Boys Club and Thread of Gold\, also based on actual events. She is a former journalist who covered police and the courts for newspapers throughout California\, including the trial in the first of the infamous Lords of Bakersfield murders.  \nFor more info\, visit https://annedavigoauthor.com/. \n \nSpeaker meetings are held in the Rose Room at Auburn City Hall.\nPublic Invited – Free \nClick here for Rose Room address\, map\, and directions. Also\, info on Rose Room parking\, now offsite only.
URL:https://goldcountrywriters.com/event/october-speaker-anne-da-vigo/
LOCATION:Auburn City Hall – Rose Room\, 1225 Lincoln Way\, Auburn\, CA 95603\, CA\, 95603\, United States
CATEGORIES:Speaker
END:VEVENT
END:VCALENDAR