BEGIN:VCALENDAR
VERSION:2.0
PRODID:-//Gold Country Writers - ECPv6.15.20//NONSGML v1.0//EN
CALSCALE:GREGORIAN
METHOD:PUBLISH
X-ORIGINAL-URL:https://goldcountrywriters.com
X-WR-CALDESC:Events for Gold Country Writers
REFRESH-INTERVAL;VALUE=DURATION:PT1H
X-Robots-Tag:noindex
X-PUBLISHED-TTL:PT1H
BEGIN:VTIMEZONE
TZID:America/Los_Angeles
BEGIN:DAYLIGHT
TZOFFSETFROM:-0800
TZOFFSETTO:-0700
TZNAME:PDT
DTSTART:20250309T100000
END:DAYLIGHT
BEGIN:STANDARD
TZOFFSETFROM:-0700
TZOFFSETTO:-0800
TZNAME:PST
DTSTART:20251102T090000
END:STANDARD
BEGIN:DAYLIGHT
TZOFFSETFROM:-0800
TZOFFSETTO:-0700
TZNAME:PDT
DTSTART:20260308T100000
END:DAYLIGHT
BEGIN:STANDARD
TZOFFSETFROM:-0700
TZOFFSETTO:-0800
TZNAME:PST
DTSTART:20261101T090000
END:STANDARD
BEGIN:DAYLIGHT
TZOFFSETFROM:-0800
TZOFFSETTO:-0700
TZNAME:PDT
DTSTART:20270314T100000
END:DAYLIGHT
BEGIN:STANDARD
TZOFFSETFROM:-0700
TZOFFSETTO:-0800
TZNAME:PST
DTSTART:20271107T090000
END:STANDARD
END:VTIMEZONE
BEGIN:VEVENT
DTSTART;TZID=America/Los_Angeles:20260318T100000
DTEND;TZID=America/Los_Angeles:20260318T120000
DTSTAMP:20260422T150009
CREATED:20251212T212955Z
LAST-MODIFIED:20251214T194338Z
UID:10000223-1773828000-1773835200@goldcountrywriters.com
SUMMARY:March Speaker - Jojo Cook
DESCRIPTION:Our speaker will be Jojo Cook on “Social Action Writing: What Makes The Pen Mighty?” \nJojo Cook is a native of Auburn and a graduate of CSU Monterey Bay’s Social Action Writing Program. Jojo served as president and chief editor of CSUMB’s “In the Ords” Literary Arts Journal where her poetry appeared in several issues. \n \n  \n  \n  \n  \n  \n  \n  \nSpeaker meetings are held in the Rose Room at Auburn City Hall. \nPublic Invited — Free \nClick here for Rose Room address\, map\, and directions. Also\, info on Rose Room parking\, now offsite only.
URL:https://goldcountrywriters.com/event/march-speaker-jojo-cook/
LOCATION:Auburn City Hall – Rose Room\, 1225 Lincoln Way\, Auburn\, CA 95603\, CA\, 95603\, United States
CATEGORIES:Speaker
END:VEVENT
BEGIN:VEVENT
DTSTART;TZID=America/Los_Angeles:20260415T100000
DTEND;TZID=America/Los_Angeles:20260415T120000
DTSTAMP:20260422T150009
CREATED:20260210T193115Z
LAST-MODIFIED:20260328T230930Z
UID:10000238-1776247200-1776254400@goldcountrywriters.com
SUMMARY:April Speaker - Karen A. Phillips
DESCRIPTION:Our speaker will be Karen A. Phillips on “Using Tropes to Strengthen Your Story.” \nKaren A. Phillips is a past president of Capitol Crimes\, the Sacramento chapter of Sisters In Crime. Her books in the Rocky Nelson Boxing Mystery series\, which features an amateur sleuth who boxes\, are: A Deadly Combo (Book 1)\, A Deadly Match (Book 2)\, and A Deadly Hook (Book 3). And yes\, Karen does take boxing lessons. For more info and to subscribe to her newsletter\, visit KarenAPhillips.com. \n \n  \nSpeaker meetings are held in the Rose Room at Auburn City Hall. \nPublic Invited — Free \nClick here for Rose Room address\, map\, and directions. Also\, info on Rose Room parking\, now offsite only.
URL:https://goldcountrywriters.com/event/april-speaker-karen-a-phillips/
LOCATION:Auburn City Hall – Rose Room\, 1225 Lincoln Way\, Auburn\, CA 95603\, CA\, 95603\, United States
CATEGORIES:Speaker
END:VEVENT
BEGIN:VEVENT
DTSTART;TZID=America/Los_Angeles:20260520T100000
DTEND;TZID=America/Los_Angeles:20260520T120000
DTSTAMP:20260422T150009
CREATED:20260309T175620Z
LAST-MODIFIED:20260328T231241Z
UID:10000253-1779271200-1779278400@goldcountrywriters.com
SUMMARY:May Speaker - Geri Spieler
DESCRIPTION:Our speaker will be Geri Spieler on “Bringing Journalistic Rigor to Fictional Storytelling.” \nFormer Investigative Journalist Geri Spieler landed an agent and a publisher for her breakthrough book\, Housewife Assassin: The Woman Who Tried to Kill President Ford (Diversion Books)\, based on her extensive and vetted research. Subsequently\, she landed an option for a ten-episode TV series based on the book. Geri has written for the Los Angeles Times\, San Francisco Chronicle\, and Forbes; and has been interviewed by the New York Times\, Washington Post\, the Associated Press\, the BBC\, and by Brian Lamb\, founder of C-SPAN. For more info\, visit https://gerispieler.com/. \n \nSpeaker meetings are held in the Rose Room at Auburn City Hall. \nPublic Invited — Free \nClick here for Rose Room address\, map\, and directions. Also\, info on Rose Room parking\, now offsite only.
URL:https://goldcountrywriters.com/event/may-speaker-geri-spieler/
LOCATION:Auburn City Hall – Rose Room\, 1225 Lincoln Way\, Auburn\, CA 95603\, CA\, 95603\, United States
CATEGORIES:Speaker
ORGANIZER;CN="Gold Country Writers":MAILTO:goldcountrywriters1849@gmail.com
END:VEVENT
BEGIN:VEVENT
DTSTART;TZID=America/Los_Angeles:20260715T100000
DTEND;TZID=America/Los_Angeles:20260715T120000
DTSTAMP:20260422T150009
CREATED:20250227T201632Z
LAST-MODIFIED:20260403T170647Z
UID:10000254-1784109600-1784116800@goldcountrywriters.com
SUMMARY:Monthly Speaker - To Be Announced
DESCRIPTION:Monthly Speaker\nOn 3rd Wednesdays\, except in August and December\, we host a Speaker Event from 10:00 am – 12:00 noon\, PDT \nThese meetings are held in the Rose Room at Auburn City Hall.\nThe public is invited. The meeting is free to attend. \nClick here for Rose Room address\, map\, and directions. Also\, info on Rose Room parking\, now offsite only.
URL:https://goldcountrywriters.com/event/monthly-speaker-stay-tuned-for-details/2026-07-15/
LOCATION:Auburn City Hall – Rose Room\, 1225 Lincoln Way\, Auburn\, CA 95603\, CA\, 95603\, United States
CATEGORIES:Speaker
END:VEVENT
BEGIN:VEVENT
DTSTART;TZID=America/Los_Angeles:20260916T100000
DTEND;TZID=America/Los_Angeles:20260916T120000
DTSTAMP:20260422T150009
CREATED:20250227T201632Z
LAST-MODIFIED:20260403T170647Z
UID:10000255-1789552800-1789560000@goldcountrywriters.com
SUMMARY:Monthly Speaker - To Be Announced
DESCRIPTION:Monthly Speaker\nOn 3rd Wednesdays\, except in August and December\, we host a Speaker Event from 10:00 am – 12:00 noon\, PDT \nThese meetings are held in the Rose Room at Auburn City Hall.\nThe public is invited. The meeting is free to attend. \nClick here for Rose Room address\, map\, and directions. Also\, info on Rose Room parking\, now offsite only.
URL:https://goldcountrywriters.com/event/monthly-speaker-stay-tuned-for-details/2026-09-16/
LOCATION:Auburn City Hall – Rose Room\, 1225 Lincoln Way\, Auburn\, CA 95603\, CA\, 95603\, United States
CATEGORIES:Speaker
END:VEVENT
BEGIN:VEVENT
DTSTART;TZID=America/Los_Angeles:20261021T100000
DTEND;TZID=America/Los_Angeles:20261021T120000
DTSTAMP:20260422T150009
CREATED:20250227T201632Z
LAST-MODIFIED:20260403T170647Z
UID:10000256-1792576800-1792584000@goldcountrywriters.com
SUMMARY:Monthly Speaker - To Be Announced
DESCRIPTION:Monthly Speaker\nOn 3rd Wednesdays\, except in August and December\, we host a Speaker Event from 10:00 am – 12:00 noon\, PDT \nThese meetings are held in the Rose Room at Auburn City Hall.\nThe public is invited. The meeting is free to attend. \nClick here for Rose Room address\, map\, and directions. Also\, info on Rose Room parking\, now offsite only.
URL:https://goldcountrywriters.com/event/monthly-speaker-stay-tuned-for-details/2026-10-21/
LOCATION:Auburn City Hall – Rose Room\, 1225 Lincoln Way\, Auburn\, CA 95603\, CA\, 95603\, United States
CATEGORIES:Speaker
END:VEVENT
BEGIN:VEVENT
DTSTART;TZID=America/Los_Angeles:20261118T100000
DTEND;TZID=America/Los_Angeles:20261118T120000
DTSTAMP:20260422T150009
CREATED:20250227T201632Z
LAST-MODIFIED:20260403T170647Z
UID:10000257-1794996000-1795003200@goldcountrywriters.com
SUMMARY:Monthly Speaker - To Be Announced
DESCRIPTION:Monthly Speaker\nOn 3rd Wednesdays\, except in August and December\, we host a Speaker Event from 10:00 am – 12:00 noon\, PDT \nThese meetings are held in the Rose Room at Auburn City Hall.\nThe public is invited. The meeting is free to attend. \nClick here for Rose Room address\, map\, and directions. Also\, info on Rose Room parking\, now offsite only.
URL:https://goldcountrywriters.com/event/monthly-speaker-stay-tuned-for-details/2026-11-18/
LOCATION:Auburn City Hall – Rose Room\, 1225 Lincoln Way\, Auburn\, CA 95603\, CA\, 95603\, United States
CATEGORIES:Speaker
END:VEVENT
BEGIN:VEVENT
DTSTART;TZID=America/Los_Angeles:20261216T100000
DTEND;TZID=America/Los_Angeles:20261216T120000
DTSTAMP:20260422T150009
CREATED:20250227T201632Z
LAST-MODIFIED:20260403T170647Z
UID:10000258-1797415200-1797422400@goldcountrywriters.com
SUMMARY:Monthly Speaker - To Be Announced
DESCRIPTION:Monthly Speaker\nOn 3rd Wednesdays\, except in August and December\, we host a Speaker Event from 10:00 am – 12:00 noon\, PDT \nThese meetings are held in the Rose Room at Auburn City Hall.\nThe public is invited. The meeting is free to attend. \nClick here for Rose Room address\, map\, and directions. Also\, info on Rose Room parking\, now offsite only.
URL:https://goldcountrywriters.com/event/monthly-speaker-stay-tuned-for-details/2026-12-16/
LOCATION:Auburn City Hall – Rose Room\, 1225 Lincoln Way\, Auburn\, CA 95603\, CA\, 95603\, United States
CATEGORIES:Speaker
END:VEVENT
END:VCALENDAR